Workbook
Name dettaglio: #REF!
Name non_comunicato: #REF!
Name sintetico: contingente!$A$3:$AL$102

Sheet RIEPILOGO
A1: Calcolo disponibilità ed esubero a.s. 2017/18 e contingente a.s.2017/18
A3: Profilo | B3: Organico | C3: Titolari | D3: Disponibilità 17/18 | E3: Esubero 17/18 | F3: Contingente 17/18
A4: DM - Direttore dei Servizi Amministrativi | B4: =contingente!C103 -> 7995 | C4: =contingente!D103 -> 6519 | D4: =contingente!E103 -> 1554 | E4: =contingente!F103 -> 78 | F4: =contingente!G103 -> 761
A5: AA - Assistenti Amministrativi | B5: =contingente!H103 -> 46486 | C5: =contingente!I103 -> 43965 | D5: =contingente!J103 -> 2524 | E5: =contingente!K103 -> 3 | F5: =contingente!L103 -> 1227
A6: AT - Assistenti Tecnici | B6: =contingente!M103 -> 16050 | C6: =contingente!N103 -> 15154 | D6: =contingente!O103 -> 898 | E6: =contingente!P103 -> 2 | F6: =contingente!Q103 -> 428
A7: CS - Collaboratori Scolastici | B7: =contingente!R103 -> 119257 | C7: =contingente!S103 -> 111818 | D7: =contingente!T103 -> 7439 | E7: =contingente!U103 -> 0 | F7: =contingente!V103 -> 3655
A8: CO - Cuochi | B8: =contingente!W103 -> 433 | C8: =contingente!X103 -> 337 | D8: =contingente!Y103 -> 97 | E8: =contingente!Z103 -> 1 | F8: =contingente!AA103 -> 66
A9: CR - Addetti alle Aziende Agrarie | B9: =contingente!AB103 -> 408 | C9: =contingente!AC103 -> 321 | D9: =contingente!AD103 -> 87 | E9: =contingente!AE103 -> 0 | F9: =contingente!AF103 -> 60
A10: GA - Guardarobieri | B10: =contingente!AG103 -> 338 | C10: =contingente!AH103 -> 285 | D10: =contingente!AI103 -> 58 | E10: =contingente!AJ103 -> 5 | F10: =contingente!AK103 -> 41
A11: IF - Infermieri | B11: =contingente!AL103 -> 119 | C11: =contingente!AM103 -> 99 | D11: =contingente!AN103 -> 24 | E11: =contingente!AO103 -> 4 | F11: =contingente!AP103 -> 22
A12: Totale | B12: =SUM(B4:B11) -> 191086 | C12: =SUM(C4:C11) -> 178498 | D12: =SUM(D4:D11) -> 12681 | E12: =SUM(E4:E11) -> 93 | F12: =SUM(F4:F11) -> 6260

Sheet contingente
A1: REGIONE | B1: PROVINCIA | C1: Direttori servizi generali e amministrativi | H1: Assistenti Amministrativi | M1: Assistenti Tecnici | R1: Collaboratori Scolastici | W1: Cuochi | AB1: Collaboratori scolastici tecnici (Addetti alle aziende agrarie) | AG1: Guardarobieri | AL1: Infermieri
C2: OD 201718 | D2: Titolari | E2: Disponibilità | F2: Esubero | G2: Contingente | H2: OD 201718 | I2: Titolari | J2: Disponibilità | K2: Esubero | L2: Contingente | M2: OD 201718 | N2: Titolari | O2: Disponibilità | P2: Esubero | Q2: Contingente | R2: OD 201718 | S2: Titolari | T2: Disponibilità | U2: Esubero | V2: Contingente | W2: OD 201718 | X2: Titolari | Y2: Disponibilità | Z2: Esubero | AA2: Contingente | AB2: OD 201718 | AC2: Titolari | AD2: Disponibilità | AE2: Esubero | AF2: Contingente | AG2: OD 201718 | AH2: Titolari | AI2: Disponibilità | AJ2: Esubero | AK2: Contingente | AL2: OD 201718 | AM2: Titolari | AN2: Disponibilità | AO2: Esubero | AP2: Contingente
A3: Sicilia | B3: Agrigento | C3: 73 | D3: 86 | E3: =IF(C3>D3,C3-D3,0) -> 0 | F3: =IF(D3>C3,D3-C3,0) -> 13 | G3: =IF(E3=1,1,ROUND(E3*0.49,0)) -> 0 | H3: 408 | I3: 401 | J3: =IF(H3>I3,H3-I3,0) -> 7 | K3: =IF(I3>H3,I3-H3,0) -> 0 | L3: =IF(J3=1,1,ROUND(J3*0.49,0)) -> 3 | M3: 121 | N3: 121 | O3: =IF(M3>N3,M3-N3,0) -> 0 | P3: =IF(N3>M3,N3-M3,0) -> 0 | Q3: =IF(O3=1,1,ROUND(O3*0.49,0)) -> 0 | R3: 1056 | S3: 1038 | T3: =IF(R3>S3,R3-S3,0) -> 18 | U3: =IF(S3>R3,S3-R3,0) -> 0 | V3: =IF(T3=1,1,ROUND(T3*0.4905,0)) -> 9 | W3: 3 | X3: 3 | Y3: =IF(W3>X3,W3-X3,0) -> 0 | Z3: =IF(X3>W3,X3-W3,0) -> 0 | AA3: =IF(Y3=1,1,ROUND(Y3*0.5,0)) -> 0 | AB3: 5 | AC3: 5 | AD3: =IF(AB3>AC3,AB3-AC3,0) -> 0 | AE3: =IF(AC3>AB3,AC3-AB3,0) -> 0 | AF3: =IF(AD3=1,1,ROUND(AD3*0.5,0)) -> 0 | AG3: 2 | AH3: 2 | AI3: =IF(AG3>AH3,AG3-AH3,0) -> 0 | AJ3: =IF(AH3>AG3,AH3-AG3,0) -> 0 | AK3: =IF(AI3=1,1,ROUND(AI3*0.5,0)) -> 0 | AL3: 1 | AM3: 1 | AN3: =IF(AL3>AM3,AL3-AM3,0) -> 0 | AO3: =IF(AM3>AL3,AM3-AL3,0) -> 0 | AP3: =IF(AN3=1,1,ROUND(AN3*0.5,0)) -> 0
A4: Piemonte | B4: Alessandria | C4: 50 | D4: 32 | E4: =IF(C4>D4,C4-D4,0) -> 18 | F4: =IF(D4>C4,D4-C4,0) -> 0 | G4: =IF(E4=1,1,ROUND(E4*0.49,0)) -> 9 | H4: 267 | I4: 240 | J4: =IF(H4>I4,H4-I4,0) -> 27 | K4: =IF(I4>H4,I4-H4,0) -> 0 | L4: =IF(J4=1,1,ROUND(J4*0.49,0)) -> 13 | M4: 71 | N4: 70 | O4: =IF(M4>N4,M4-N4,0) -> 1 | P4: =IF(N4>M4,N4-M4,0) -> 0 | Q4: =IF(O4=1,1,ROUND(O4*0.49,0)) -> 1 | R4: 804 | S4: 758 | T4: =IF(R4>S4,R4-S4,0) -> 46 | U4: =IF(S4>R4,S4-R4,0) -> 0 | V4: =IF(T4=1,1,ROUND(T4*0.4905,0)) -> 23 | W4: 3 | X4: 2 | Y4: =IF(W4>X4,W4-X4,0) -> 1 | Z4: =IF(X4>W4,X4-W4,0) -> 0 | AA4: =IF(Y4=1,1,ROUND(Y4*0.5,0)) -> 1 | AB4: 3 | AC4: 2 | AD4: =IF(AB4>AC4,AB4-AC4,0) -> 1 | AE4: =IF(AC4>AB4,AC4-AB4,0) -> 0 | AF4: =IF(AD4=1,1,ROUND(AD4*0.5,0)) -> 1 | AG4: 2 | AH4: 1 | AI4: =IF(AG4>AH4,AG4-AH4,0) -> 1 | AJ4: =IF(AH4>AG4,AH4-AG4,0) -> 0 | AK4: =IF(AI4=1,1,ROUND(AI4*0.5,0)) -> 1 | AL4: 1 | AM4: 0 | AN4: =IF(AL4>AM4,AL4-AM4,0) -> 1 | AO4: =IF(AM4>AL4,AM4-AL4,0) -> 0 | AP4: =IF(AN4=1,1,ROUND(AN4*0.5,0)) -> 1
A5: Marche | B5: Ancona | C5: 68 | D5: 58 | E5: =IF(C5>D5,C5-D5,0) -> 10 | F5: =IF(D5>C5,D5-C5,0) -> 0 | G5: =IF(E5=1,1,ROUND(E5*0.49,0)) -> 5 | H5: 398 | I5: 368 | J5: =IF(H5>I5,H5-I5,0) -> 30 | K5: =IF(I5>H5,I5-H5,0) -> 0 | L5: =IF(J5=1,1,ROUND(J5*0.49,0)) -> 15 | M5: 207 | N5: 201 | O5: =IF(M5>N5,M5-N5,0) -> 6 | P5: =IF(N5>M5,N5-M5,0) -> 0 | Q5: =IF(O5=1,1,ROUND(O5*0.49,0)) -> 3 | R5: 1079 | S5: 1005 | T5: =IF(R5>S5,R5-S5,0) -> 74 | U5: =IF(S5>R5,S5-R5,0) -> 0 | V5: =IF(T5=1,1,ROUND(T5*0.4905,0)) -> 36 | W5: 3 | X5: 2 | Y5: =IF(W5>X5,W5-X5,0) -> 1 | Z5: =IF(X5>W5,X5-W5,0) -> 0 | AA5: =IF(Y5=1,1,ROUND(Y5*0.5,0)) -> 1 | AB5: 3 | AC5: 2 | AD5: =IF(AB5>AC5,AB5-AC5,0) -> 1 | AE5: =IF(AC5>AB5,AC5-AB5,0) -> 0 | AF5: =IF(AD5=1,1,ROUND(AD5*0.5,0)) -> 1 | AG5: 2 | AH5: 2 | AI5: =IF(AG5>AH5,AG5-AH5,0) -> 0 | AJ5: =IF(AH5>AG5,AH5-AG5,0) -> 0 | AK5: =IF(AI5=1,1,ROUND(AI5*0.5,0)) -> 0 | AL5: 1 | AM5: 0 | AN5: =IF(AL5>AM5,AL5-AM5,0) -> 1 | AO5: =IF(AM5>AL5,AM5-AL5,0) -> 0 | AP5: =IF(AN5=1,1,ROUND(AN5*0.5,0)) -> 1
A6: Toscana | B6: Arezzo | C6: 49 | D6: 34 | E6: =IF(C6>D6,C6-D6,0) -> 15 | F6: =IF(D6>C6,D6-C6,0) -> 0 | G6: =IF(E6=1,1,ROUND(E6*0.49,0)) -> 7 | H6: 293 | I6: 269 | J6: =IF(H6>I6,H6-I6,0) -> 24 | K6: =IF(I6>H6,I6-H6,0) -> 0 | L6: =IF(J6=1,1,ROUND(J6*0.49,0)) -> 12 | M6: 89 | N6: 81 | O6: =IF(M6>N6,M6-N6,0) -> 8 | P6: =IF(N6>M6,N6-M6,0) -> 0 | Q6: =IF(O6=1,1,ROUND(O6*0.49,0)) -> 4 | R6: 820 | S6: 782 | T6: =IF(R6>S6,R6-S6,0) -> 38 | U6: =IF(S6>R6,S6-R6,0) -> 0 | V6: =IF(T6=1,1,ROUND(T6*0.4905,0)) -> 19 | W6: 12 | X6: 11 | Y6: =IF(W6>X6,W6-X6,0) -> 1 | Z6: =IF(X6>W6,X6-W6,0) -> 0 | AA6: =IF(Y6=1,1,ROUND(Y6*0.5,0)) -> 1 | AB6: 4 | AC6: 3 | AD6: =IF(AB6>AC6,AB6-AC6,0) -> 1 | AE6: =IF(AC6>AB6,AC6-AB6,0) -> 0 | AF6: =IF(AD6=1,1,ROUND(AD6*0.5,0)) -> 1 | AG6: 10 | AH6: 9 | AI6: =IF(AG6>AH6,AG6-AH6,0) -> 1 | AJ6: =IF(AH6>AG6,AH6-AG6,0) -> 0 | AK6: =IF(AI6=1,1,ROUND(AI6*0.5,0)) -> 1 | AL6: 3 | AM6: 3 | AN6: =IF(AL6>AM6,AL6-AM6,0) -> 0 | AO6: =IF(AM6>AL6,AM6-AL6,0) -> 0 | AP6: =IF(AN6=1,1,ROUND(AN6*0.5,0)) -> 0
A7: Marche | B7: Ascoli Piceno | C7: 49 | D7: 43 | E7: =IF(C7>D7,C7-D7,0) -> 6 | F7: =IF(D7>C7,D7-C7,0) -> 0 | G7: =IF(E7=1,1,ROUND(E7*0.49,0)) -> 3 | H7: 322 | I7: 316 | J7: =IF(H7>I7,H7-I7,0) -> 6 | K7: =IF(I7>H7,I7-H7,0) -> 0 | L7: =IF(J7=1,1,ROUND(J7*0.49,0)) -> 3 | M7: 134 | N7: 118 | O7: =IF(M7>N7,M7-N7,0) -> 16 | P7: =IF(N7>M7,N7-M7,0) -> 0 | Q7: =IF(O7=1,1,ROUND(O7*0.49,0)) -> 8 | R7: 854 | S7: 802 | T7: =IF(R7>S7,R7-S7,0) -> 52 | U7: =IF(S7>R7,S7-R7,0) -> 0 | V7: =IF(T7=1,1,ROUND(T7*0.4905,0)) -> 26 | W7: 9 | X7: 8 | Y7: =IF(W7>X7,W7-X7,0) -> 1 | Z7: =IF(X7>W7,X7-W7,0) -> 0 | AA7: =IF(Y7=1,1,ROUND(Y7*0.5,0)) -> 1 | AB7: 4 | AC7: 4 | AD7: =IF(AB7>AC7,AB7-AC7,0) -> 0 | AE7: =IF(AC7>AB7,AC7-AB7,0) -> 0 | AF7: =IF(AD7=1,1,ROUND(AD7*0.5,0)) -> 0 | AG7: 6 | AH7: 5 | AI7: =IF(AG7>AH7,AG7-AH7,0) -> 1 | AJ7: =IF(AH7>AG7,AH7-AG7,0) -> 0 | AK7: =IF(AI7=1,1,ROUND(AI7*0.5,0)) -> 1 | AL7: 3 | AM7: 3 | AN7: =IF(AL7>AM7,AL7-AM7,0) -> 0 | AO7: =IF(AM7>AL7,AM7-AL7,0) -> 0 | AP7: =IF(AN7=1,1,ROUND(AN7*0.5,0)) -> 0
A8: Piemonte | B8: Asti | C8: 27 | D8: 18 | E8: =IF(C8>D8,C8-D8,0) -> 9 | F8: =IF(D8>C8,D8-C8,0) -> 0 | G8: =IF(E8=1,1,ROUND(E8*0.49,0)) -> 4 | H8: 143 | I8: 134 | J8: =IF(H8>I8,H8-I8,0) -> 9 | K8: =IF(I8>H8,I8-H8,0) -> 0 | L8: =IF(J8=1,1,ROUND(J8*0.49,0)) -> 4 | M8: 28 | N8: 25 | O8: =IF(M8>N8,M8-N8,0) -> 3 | P8: =IF(N8>M8,N8-M8,0) -> 0 | Q8: =IF(O8=1,1,ROUND(O8*0.49,0)) -> 1 | R8: 434 | S8: 412 | T8: =IF(R8>S8,R8-S8,0) -> 22 | U8: =IF(S8>R8,S8-R8,0) -> 0 | V8: =IF(T8=1,1,ROUND(T8*0.4905,0)) -> 11 | W8: 0 | X8: 0 | Y8: =IF(W8>X8,W8-X8,0) -> 0 | Z8: =IF(X8>W8,X8-W8,0) -> 0 | AA8: =IF(Y8=1,1,ROUND(Y8*0.5,0)) -> 0 | AB8: 3 | AC8: 3 | AD8: =IF(AB8>AC8,AB8-AC8,0) -> 0 | AE8: =IF(AC8>AB8,AC8-AB8,0) -> 0 | AF8: =IF(AD8=1,1,ROUND(AD8*0.5,0)) -> 0 | AG8: 0 | AH8: 0 | AI8: =IF(AG8>AH8,AG8-AH8,0) -> 0 | AJ8: =IF(AH8>AG8,AH8-AG8,0) -> 0 | AK8: =IF(AI8=1,1,ROUND(AI8*0.5,0)) -> 0 | AL8: 0 | AM8: 0 | AN8: =IF(AL8>AM8,AL8-AM8,0) -> 0 | AO8: =IF(AM8>AL8,AM8-AL8,0) -> 0 | AP8: =IF(AN8=1,1,ROUND(AN8*0.5,0)) -> 0
A9: Campania | B9: Avellino | C9: 71 | D9: 69 | E9: =IF(C9>D9,C9-D9,0) -> 2 | F9: =IF(D9>C9,D9-C9,0) -> 0 | G9: =IF(E9=1,1,ROUND(E9*0.49,0)) -> 1 | H9: 363 | I9: 351 | J9: =IF(H9>I9,H9-I9,0) -> 12 | K9: =IF(I9>H9,I9-H9,0) -> 0 | L9: =IF(J9=1,1,ROUND(J9*0.49,0)) -> 6 | M9: 155 | N9: 154 | O9: =IF(M9>N9,M9-N9,0) -> 1 | P9: =IF(N9>M9,N9-M9,0) -> 0 | Q9: =IF(O9=1,1,ROUND(O9*0.49,0)) -> 1 | R9: 1032 | S9: 990 | T9: =IF(R9>S9,R9-S9,0) -> 42 | U9: =IF(S9>R9,S9-R9,0) -> 0 | V9: =IF(T9=1,1,ROUND(T9*0.4905,0)) -> 21 | W9: 6 | X9: 6 | Y9: =IF(W9>X9,W9-X9,0) -> 0 | Z9: =IF(X9>W9,X9-W9,0) -> 0 | AA9: =IF(Y9=1,1,ROUND(Y9*0.5,0)) -> 0 | AB9: 0 | AC9: 0 | AD9: =IF(AB9>AC9,AB9-AC9,0) -> 0 | AE9: =IF(AC9>AB9,AC9-AB9,0) -> 0 | AF9: =IF(AD9=1,1,ROUND(AD9*0.5,0)) -> 0 | AG9: 5 | AH9: 3 | AI9: =IF(AG9>AH9,AG9-AH9,0) -> 2 | AJ9: =IF(AH9>AG9,AH9-AG9,0) -> 0 | AK9: =IF(AI9=1,1,ROUND(AI9*0.5,0)) -> 1 | AL9: 1 | AM9: 1 | AN9: =IF(AL9>AM9,AL9-AM9,0) -> 0 | AO9: =IF(AM9>AL9,AM9-AL9,0) -> 0 | AP9: =IF(AN9=1,1,ROUND(AN9*0.5,0)) -> 0
A10: Puglia | B10: Bari | C10: 248 | D10: 269 | E10: =IF(C10>D10,C10-D10,0) -> 0 | F10: =IF(D10>C10,D10-C10,0) -> 21 | G10: =IF(E10=1,1,ROUND(E10*0.49,0)) -> 0 | H10: 1400 | I10: 1367 | J10: =IF(H10>I10,H10-I10,0) -> 33 | K10: =IF(I10>H10,I10-H10,0) -> 0 | L10: =IF(J10=1,1,ROUND(J10*0.49,0)) -> 16 | M10: 556 | N10: 520 | O10: =IF(M10>N10,M10-N10,0) -> 36 | P10: =IF(N10>M10,N10-M10,0) -> 0 | Q10: =IF(O10=1,1,ROUND(O10*0.49,0)) -> 18 | R10: 2999 | S10: 2817 | T10: =IF(R10>S10,R10-S10,0) -> 182 | U10: =IF(S10>R10,S10-R10,0) -> 0 | V10: =IF(T10=1,1,ROUND(T10*0.4905,0)) -> 89 | W10: 9 | X10: 7 | Y10: =IF(W10>X10,W10-X10,0) -> 2 | Z10: =IF(X10>W10,X10-W10,0) -> 0 | AA10: =IF(Y10=1,1,ROUND(Y10*0.5,0)) -> 1 | AB10: 8 | AC10: 4 | AD10: =IF(AB10>AC10,AB10-AC10,0) -> 4 | AE10: =IF(AC10>AB10,AC10-AB10,0) -> 0 | AF10: =IF(AD10=1,1,ROUND(AD10*0.5,0)) -> 2 | AG10: 8 | AH10: 6 | AI10: =IF(AG10>AH10,AG10-AH10,0) -> 2 | AJ10: =IF(AH10>AG10,AH10-AG10,0) -> 0 | AK10: =IF(AI10=1,1,ROUND(AI10*0.5,0)) -> 1 | AL10: 2 | AM10: 2 | AN10: =IF(AL10>AM10,AL10-AM10,0) -> 0 | AO10: =IF(AM10>AL10,AM10-AL10,0) -> 0 | AP10: =IF(AN10=1,1,ROUND(AN10*0.5,0)) -> 0
A11: Veneto | B11: Belluno | C11: 34 | D11: 21 | E11: =IF(C11>D11,C11-D11,0) -> 13 | F11: =IF(D11>C11,D11-C11,0) -> 0 | G11: =IF(E11=1,1,ROUND(E11*0.49,0)) -> 6 | H11: 173 | I11: 161 | J11: =IF(H11>I11,H11-I11,0) -> 12 | K11: =IF(I11>H11,I11-H11,0) -> 0 | L11: =IF(J11=1,1,ROUND(J11*0.49,0)) -> 6 | M11: 72 | N11: 65 | O11: =IF(M11>N11,M11-N11,0) -> 7 | P11: =IF(N11>M11,N11-M11,0) -> 0 | Q11: =IF(O11=1,1,ROUND(O11*0.49,0)) -> 3 | R11: 548 | S11: 496 | T11: =IF(R11>S11,R11-S11,0) -> 52 | U11: =IF(S11>R11,S11-R11,0) -> 0 | V11: =IF(T11=1,1,ROUND(T11*0.4905,0)) -> 26 | W11: 12 | X11: 12 | Y11: =IF(W11>X11,W11-X11,0) -> 0 | Z11: =IF(X11>W11,X11-W11,0) -> 0 | AA11: =IF(Y11=1,1,ROUND(Y11*0.5,0)) -> 0 | AB11: 2 | AC11: 1 | AD11: =IF(AB11>AC11,AB11-AC11,0) -> 1 | AE11: =IF(AC11>AB11,AC11-AB11,0) -> 0 | AF11: =IF(AD11=1,1,ROUND(AD11*0.5,0)) -> 1 | AG11: 7 | AH11: 7 | AI11: =IF(AG11>AH11,AG11-AH11,0) -> 0 | AJ11: =IF(AH11>AG11,AH11-AG11,0) -> 0 | AK11: =IF(AI11=1,1,ROUND(AI11*0.5,0)) -> 0 | AL11: 3 | AM11: 3 | AN11: =IF(AL11>AM11,AL11-AM11,0) -> 0 | AO11: =IF(AM11>AL11,AM11-AL11,0) -> 0 | AP11: =IF(AN11=1,1,ROUND(AN11*0.5,0)) -> 0
A12: Campania | B12: Benevento | C12: 50 | D12: 50 | E12: =IF(C12>D12,C12-D12,0) -> 0 | F12: =IF(D12>C12,D12-C12,0) -> 0 | G12: =IF(E12=1,1,ROUND(E12*0.49,0)) -> 0 | H12: 254 | I12: 247 | J12: =IF(H12>I12,H12-I12,0) -> 7 | K12: =IF(I12>H12,I12-H12,0) -> 0 | L12: =IF(J12=1,1,ROUND(J12*0.49,0)) -> 3 | M12: 95 | N12: 90 | O12: =IF(M12>N12,M12-N12,0) -> 5 | P12: =IF(N12>M12,N12-M12,0) -> 0 | Q12: =IF(O12=1,1,ROUND(O12*0.49,0)) -> 2 | R12: 708 | S12: 679 | T12: =IF(R12>S12,R12-S12,0) -> 29 | U12: =IF(S12>R12,S12-R12,0) -> 0 | V12: =IF(T12=1,1,ROUND(T12*0.4905,0)) -> 14 | W12: 3 | X12: 3 | Y12: =IF(W12>X12,W12-X12,0) -> 0 | Z12: =IF(X12>W12,X12-W12,0) -> 0 | AA12: =IF(Y12=1,1,ROUND(Y12*0.5,0)) -> 0 | AB12: 2 | AC12: 2 | AD12: =IF(AB12>AC12,AB12-AC12,0) -> 0 | AE12: =IF(AC12>AB12,AC12-AB12,0) -> 0 | AF12: =IF(AD12=1,1,ROUND(AD12*0.5,0)) -> 0 | AG12: 3 | AH12: 2 | AI12: =IF(AG12>AH12,AG12-AH12,0) -> 1 | AJ12: =IF(AH12>AG12,AH12-AG12,0) -> 0 | AK12: =IF(AI12=1,1,ROUND(AI12*0.5,0)) -> 1 | AL12: 1 | AM12: 1 | AN12: =IF(AL12>AM12,AL12-AM12,0) -> 0 | AO12: =IF(AM12>AL12,AM12-AL12,0) -> 0 | AP12: =IF(AN12=1,1,ROUND(AN12*0.5,0)) -> 0
A13: Lombardia | B13: Bergamo | C13: 139 | D13: 74 | E13: =IF(C13>D13,C13-D13,0) -> 65 | F13: =IF(D13>C13,D13-C13,0) -> 0 | G13: =IF(E13=1,1,ROUND(E13*0.49,0)) -> 32 | H13: 828 | I13: 779 | J13: =IF(H13>I13,H13-I13,0) -> 49 | K13: =IF(I13>H13,I13-H13,0) -> 0 | L13: =IF(J13=1,1,ROUND(J13*0.49,0)) -> 24 | M13: 225 | N13: 197 | O13: =IF(M13>N13,M13-N13,0) -> 28 | P13: =IF(N13>M13,N13-M13,0) -> 0 | Q13: =IF(O13=1,1,ROUND(O13*0.49,0)) -> 14 | R13: 2167 | S13: 2008 | T13: =IF(R13>S13,R13-S13,0) -> 159 | U13: =IF(S13>R13,S13-R13,0) -> 0 | V13: =IF(T13=1,1,ROUND(T13*0.4905,0)) -> 78 | W13: 7 | X13: 6 | Y13: =IF(W13>X13,W13-X13,0) -> 1 | Z13: =IF(X13>W13,X13-W13,0) -> 0 | AA13: =IF(Y13=1,1,ROUND(Y13*0.5,0)) -> 1 | AB13: 7 | AC13: 5 | AD13: =IF(AB13>AC13,AB13-AC13,0) -> 2 | AE13: =IF(AC13>AB13,AC13-AB13,0) -> 0 | AF13: =IF(AD13=1,1,ROUND(AD13*0.5,0)) -> 1 | AG13: 8 | AH13: 6 | AI13: =IF(AG13>AH13,AG13-AH13,0) -> 2 | AJ13: =IF(AH13>AG13,AH13-AG13,0) -> 0 | AK13: =IF(AI13=1,1,ROUND(AI13*0.5,0)) -> 1 | AL13: 2 | AM13: 1 | AN13: =IF(AL13>AM13,AL13-AM13,0) -> 1 | AO13: =IF(AM13>AL13,AM13-AL13,0) -> 0 | AP13: =IF(AN13=1,1,ROUND(AN13*0.5,0)) -> 1
A14: Piemonte | B14: Biella | C14: 23 | D14: 13 | E14: =IF(C14>D14,C14-D14,0) -> 10 | F14: =IF(D14>C14,D14-C14,0) -> 0 | G14: =IF(E14=1,1,ROUND(E14*0.49,0)) -> 5 | H14: 123 | I14: 107 | J14: =IF(H14>I14,H14-I14,0) -> 16 | K14: =IF(I14>H14,I14-H14,0) -> 0 | L14: =IF(J14=1,1,ROUND(J14*0.49,0)) -> 8 | M14: 33 | N14: 28 | O14: =IF(M14>N14,M14-N14,0) -> 5 | P14: =IF(N14>M14,N14-M14,0) -> 0 | Q14: =IF(O14=1,1,ROUND(O14*0.49,0)) -> 2 | R14: 389 | S14: 350 | T14: =IF(R14>S14,R14-S14,0) -> 39 | U14: =IF(S14>R14,S14-R14,0) -> 0 | V14: =IF(T14=1,1,ROUND(T14*0.4905,0)) -> 19 | W14: 0 | X14: 0 | Y14: =IF(W14>X14,W14-X14,0) -> 0 | Z14: =IF(X14>W14,X14-W14,0) -> 0 | AA14: =IF(Y14=1,1,ROUND(Y14*0.5,0)) -> 0 | AB14: 0 | AC14: 0 | AD14: =IF(AB14>AC14,AB14-AC14,0) -> 0 | AE14: =IF(AC14>AB14,AC14-AB14,0) -> 0 | AF14: =IF(AD14=1,1,ROUND(AD14*0.5,0)) -> 0 | AG14: 0 | AH14: 0 | AI14: =IF(AG14>AH14,AG14-AH14,0) -> 0 | AJ14: =IF(AH14>AG14,AH14-AG14,0) -> 0 | AK14: =IF(AI14=1,1,ROUND(AI14*0.5,0)) -> 0 | AL14: 0 | AM14: 0 | AN14: =IF(AL14>AM14,AL14-AM14,0) -> 0 | AO14: =IF(AM14>AL14,AM14-AL14,0) -> 0 | AP14: =IF(AN14=1,1,ROUND(AN14*0.5,0)) -> 0
... A53: Sicilia | B53: Messina | C53: 94 | D53: 90 | E53: =IF(C53>D53,C53-D53,0) -> 4 | F53: =IF(D53>C53,D53-C53,0) -> 0 | G53: =IF(E53=1,1,ROUND(E53*0.49,0)) -> 2 | H53: 527 | I53: 521 | J53: =IF(H53>I53,H53-I53,0) -> 6 | K53: =IF(I53>H53,I53-H53,0) -> 0 | L53: =IF(J53=1,1,ROUND(J53*0.49,0)) -> 3 | M53: 218 | N53: 216 | O53: =IF(M53>N53,M53-N53,0) -> 2 | P53: =IF(N53>M53,N53-M53,0) -> 0 | Q53: =IF(O53=1,1,ROUND(O53*0.49,0)) -> 1 | R53: 1488 | S53: 1391 | T53: =IF(R53>S53,R53-S53,0) -> 97 | U53: =IF(S53>R53,S53-R53,0) -> 0 | V53: =IF(T53=1,1,ROUND(T53*0.4905,0)) -> 48 | W53: 3 | X53: 3 | Y53: =IF(W53>X53,W53-X53,0) -> 0 | Z53: =IF(X53>W53,X53-W53,0) -> 0 | AA53: =IF(Y53=1,1,ROUND(Y53*0.5,0)) -> 0 | AB53: 11 | AC53: 10 | AD53: =IF(AB53>AC53,AB53-AC53,0) -> 1 | AE53: =IF(AC53>AB53,AC53-AB53,0) -> 0 | AF53: =IF(AD53=1,1,ROUND(AD53*0.5,0)) -> 1 | AG53: 2 | AH53: 2 | AI53: =IF(AG53>AH53,AG53-AH53,0) -> 0 | AJ53: =IF(AH53>AG53,AH53-AG53,0) -> 0 | AK53: =IF(AI53=1,1,ROUND(AI53*0.5,0)) -> 0 | AL53: 1 | AM53: 1 | AN53: =IF(AL53>AM53,AL53-AM53,0) -> 0 | AO53: =IF(AM53>AL53,AM53-AL53,0) -> 0 | AP53: =IF(AN53=1,1,ROUND(AN53*0.5,0)) -> 0
A54: Lombardia | B54: Milano | C54: 428 | D54: 264 | E54: =IF(C54>D54,C54-D54,0) -> 164 | F54: =IF(D54>C54,D54-C54,0) -> 0 | G54: =IF(E54=1,1,ROUND(E54*0.49,0)) -> 80 | H54: 2699 | I54: 2470 | J54: =IF(H54>I54,H54-I54,0) -> 229 | K54: =IF(I54>H54,I54-H54,0) -> 0 | L54: =IF(J54=1,1,ROUND(J54*0.49,0)) -> 112 | M54: 712 | N54: 649 | O54: =IF(M54>N54,M54-N54,0) -> 63 | P54: =IF(N54>M54,N54-M54,0) -> 0 | Q54: =IF(O54=1,1,ROUND(O54*0.49,0)) -> 31 | R54: 7247 | S54: 6623 | T54: =IF(R54>S54,R54-S54,0) -> 624 | U54: =IF(S54>R54,S54-R54,0) -> 0 | V54: =IF(T54=1,1,ROUND(T54*0.4905,0))+1 -> 307 | W54: 8 | X54: 4 | Y54: =IF(W54>X54,W54-X54,0) -> 4 | Z54: =IF(X54>W54,X54-W54,0) -> 0 | AA54: =IF(Y54=1,1,ROUND(Y54*0.5,0)) -> 2 | AB54: 7 | AC54: 6 | AD54: =IF(AB54>AC54,AB54-AC54,0) -> 1 | AE54: =IF(AC54>AB54,AC54-AB54,0) -> 0 | AF54: =IF(AD54=1,1,ROUND(AD54*0.5,0)) -> 1 | AG54: 7 | AH54: 4 | AI54: =IF(AG54>AH54,AG54-AH54,0) -> 3 | AJ54: =IF(AH54>AG54,AH54-AG54,0) -> 0 | AK54: =IF(AI54=1,1,ROUND(AI54*0.5,0)) -> 2 | AL54: 2 | AM54: 2 | AN54: =IF(AL54>AM54,AL54-AM54,0) -> 0 | AO54: =IF(AM54>AL54,AM54-AL54,0) -> 0 | AP54: =IF(AN54=1,1,ROUND(AN54*0.5,0)) -> 0
A55: Emilia Romagna | B55: Modena | C55: 83 | D55: 52 | E55: =IF(C55>D55,C55-D55,0) -> 31 | F55: =IF(D55>C55,D55-C55,0) -> 0 | G55: =IF(E55=1,1,ROUND(E55*0.49,0)) -> 15 | H55: 532 | I55: 474 | J55: =IF(H55>I55,H55-I55,0) -> 58 | K55: =IF(I55>H55,I55-H55,0) -> 0 | L55: =IF(J55=1,1,ROUND(J55*0.49,0)) -> 28 | M55: 157 | N55: 144 | O55: =IF(M55>N55,M55-N55,0) -> 13 | P55: =IF(N55>M55,N55-M55,0) -> 0 | Q55: =IF(O55=1,1,ROUND(O55*0.49,0)) -> 6 | R55: 1358 | S55: 1217 | T55: =IF(R55>S55,R55-S55,0) -> 141 | U55: =IF(S55>R55,S55-R55,0) -> 0 | V55: =IF(T55=1,1,ROUND(T55*0.4905,0)) -> 69 | W55: 0 | X55: 0 | Y55: =IF(W55>X55,W55-X55,0) -> 0 | Z55: =IF(X55>W55,X55-W55,0) -> 0 | AA55: =IF(Y55=1,1,ROUND(Y55*0.5,0)) -> 0 | AB55: 4 | AC55: 4 | AD55: =IF(AB55>AC55,AB55-AC55,0) -> 0 | AE55: =IF(AC55>AB55,AC55-AB55,0) -> 0 | AF55: =IF(AD55=1,1,ROUND(AD55*0.5,0)) -> 0 | AG55: 0 | AH55: 0 | AI55: =IF(AG55>AH55,AG55-AH55,0) -> 0 | AJ55: =IF(AH55>AG55,AH55-AG55,0) -> 0 | AK55: =IF(AI55=1,1,ROUND(AI55*0.5,0)) -> 0 | AL55: 0 | AM55: 0 | AN55: =IF(AL55>AM55,AL55-AM55,0) -> 0 | AO55: =IF(AM55>AL55,AM55-AL55,0) -> 0 | AP55: =IF(AN55=1,1,ROUND(AN55*0.5,0)) -> 0
A56: Campania | B56: Napoli | C56: 504 | D56: 436 | E56: =IF(C56>D56,C56-D56,0) -> 68 | F56: =IF(D56>C56,D56-C56,0) -> 0 | G56: =IF(E56=1,1,ROUND(E56*0.49,0)) -> 33 | H56: 2828 | I56: 2795 | J56: =IF(H56>I56,H56-I56,0) -> 33 | K56: =IF(I56>H56,I56-H56,0) -> 0 | L56: =IF(J56=1,1,ROUND(J56*0.49,0)) -> 16 | M56: 932 | N56: 911 | O56: =IF(M56>N56,M56-N56,0) -> 21 | P56: =IF(N56>M56,N56-M56,0) -> 0 | Q56: =IF(O56=1,1,ROUND(O56*0.49,0)) -> 10 | R56: 6028 | S56: 5694 | T56: =IF(R56>S56,R56-S56,0) -> 334 | U56: =IF(S56>R56,S56-R56,0) -> 0 | V56: =IF(T56=1,1,ROUND(T56*0.4905,0)) -> 164 | W56: 5 | X56: 4 | Y56: =IF(W56>X56,W56-X56,0) -> 1 | Z56: =IF(X56>W56,X56-W56,0) -> 0 | AA56: =IF(Y56=1,1,ROUND(Y56*0.5,0)) -> 1 | AB56: 4 | AC56: 3 | AD56: =IF(AB56>AC56,AB56-AC56,0) -> 1 | AE56: =IF(AC56>AB56,AC56-AB56,0) -> 0 | AF56: =IF(AD56=1,1,ROUND(AD56*0.5,0)) -> 1 | AG56: 8 | AH56: 8 | AI56: =IF(AG56>AH56,AG56-AH56,0) -> 0 | AJ56: =IF(AH56>AG56,AH56-AG56,0) -> 0 | AK56: =IF(AI56=1,1,ROUND(AI56*0.5,0)) -> 0 | AL56: 1 | AM56: 0 | AN56: =IF(AL56>AM56,AL56-AM56,0) -> 1 | AO56: =IF(AM56>AL56,AM56-AL56,0) -> 0 | AP56: =IF(AN56=1,1,ROUND(AN56*0.5,0)) -> 1
A57: Piemonte | B57: Novara | C57: 44 | D57: 30 | E57: =IF(C57>D57,C57-D57,0) -> 14 | F57: =IF(D57>C57,D57-C57,0) -> 0 | G57: =IF(E57=1,1,ROUND(E57*0.49,0)) -> 7 | H57: 255 | I57: 236 | J57: =IF(H57>I57,H57-I57,0) -> 19 | K57: =IF(I57>H57,I57-H57,0) -> 0 | L57: =IF(J57=1,1,ROUND(J57*0.49,0)) -> 9 | M57: 78 | N57: 77 | O57: =IF(M57>N57,M57-N57,0) -> 1 | P57: =IF(N57>M57,N57-M57,0) -> 0 | Q57: =IF(O57=1,1,ROUND(O57*0.49,0)) -> 1 | R57: 773 | S57: 706 | T57: =IF(R57>S57,R57-S57,0) -> 67 | U57: =IF(S57>R57,S57-R57,0) -> 0 | V57: =IF(T57=1,1,ROUND(T57*0.4905,0)) -> 33 | W57: 2 | X57: 1 | Y57: =IF(W57>X57,W57-X57,0) -> 1 | Z57: =IF(X57>W57,X57-W57,0) -> 0 | AA57: =IF(Y57=1,1,ROUND(Y57*0.5,0)) -> 1 | AB57: 3 | AC57: 3 | AD57: =IF(AB57>AC57,AB57-AC57,0) -> 0 | AE57: =IF(AC57>AB57,AC57-AB57,0) -> 0 | AF57: =IF(AD57=1,1,ROUND(AD57*0.5,0)) -> 0 | AG57: 1 | AH57: 2 | AI57: =IF(AG57>AH57,AG57-AH57,0) -> 0 | AJ57: =IF(AH57>AG57,AH57-AG57,0) -> 1 | AK57: =IF(AI57=1,1,ROUND(AI57*0.5,0)) -> 0 | AL57: 0 | AM57: 0 | AN57: =IF(AL57>AM57,AL57-AM57,0) -> 0 | AO57: =IF(AM57>AL57,AM57-AL57,0) -> 0 | AP57: =IF(AN57=1,1,ROUND(AN57*0.5,0)) -> 0
A58: Sardegna | B58: Nuoro | C58: 42 | D58: 47 | E58: =IF(C58>D58,C58-D58,0) -> 0 | F58: =IF(D58>C58,D58-C58,0) -> 5 | G58: =IF(E58=1,1,ROUND(E58*0.49,0)) -> 0 | H58: 209 | I58: 201 | J58: =IF(H58>I58,H58-I58,0) -> 8 | K58: =IF(I58>H58,I58-H58,0) -> 0 | L58: =IF(J58=1,1,ROUND(J58*0.49,0)) -> 4 | M58: 67 | N58: 55 | O58: =IF(M58>N58,M58-N58,0) -> 12 | P58: =IF(N58>M58,N58-M58,0) -> 0 | Q58: =IF(O58=1,1,ROUND(O58*0.49,0)) -> 6 | R58: 663 | S58: 640 | T58: =IF(R58>S58,R58-S58,0) -> 23 | U58: =IF(S58>R58,S58-R58,0) -> 0 | V58: =IF(T58=1,1,ROUND(T58*0.4905,0)) -> 11 | W58: 5 | X58: 3 | Y58: =IF(W58>X58,W58-X58,0) -> 2 | Z58: =IF(X58>W58,X58-W58,0) -> 0 | AA58: =IF(Y58=1,1,ROUND(Y58*0.5,0)) -> 1 | AB58: 4 | AC58: 2 | AD58: =IF(AB58>AC58,AB58-AC58,0) -> 2 | AE58: =IF(AC58>AB58,AC58-AB58,0) -> 0 | AF58: =IF(AD58=1,1,ROUND(AD58*0.5,0)) -> 1 | AG58: 3 | AH58: 2 | AI58: =IF(AG58>AH58,AG58-AH58,0) -> 1 | AJ58: =IF(AH58>AG58,AH58-AG58,0) -> 0 | AK58: =IF(AI58=1,1,ROUND(AI58*0.5,0)) -> 1 | AL58: 2 | AM58: 2 | AN58: =IF(AL58>AM58,AL58-AM58,0) -> 0 | AO58: =IF(AM58>AL58,AM58-AL58,0) -> 0 | AP58: =IF(AN58=1,1,ROUND(AN58*0.5,0)) -> 0
A59: Sardegna | B59: Oristano | C59: 22 | D59: 25 | E59: =IF(C59>D59,C59-D59,0) -> 0 | F59: =IF(D59>C59,D59-C59,0) -> 3 | G59: =IF(E59=1,1,ROUND(E59*0.49,0)) -> 0 | H59: 118 | I59: 121 | J59: =IF(H59>I59,H59-I59,0) -> 0 | K59: =IF(I59>H59,I59-H59,0) -> 3 | L59: =IF(J59=1,1,ROUND(J59*0.49,0)) -> 0 | M59: 50 | N59: 47 | O59: =IF(M59>N59,M59-N59,0) -> 3 | P59: =IF(N59>M59,N59-M59,0) -> 0 | Q59: =IF(O59=1,1,ROUND(O59*0.49,0)) -> 1 | R59: 390 | S59: 372 | T59: =IF(R59>S59,R59-S59,0) -> 18 | U59: =IF(S59>R59,S59-R59,0) -> 0 | V59: =IF(T59=1,1,ROUND(T59*0.4905,0)) -> 9 | W59: 6 | X59: 6 | Y59: =IF(W59>X59,W59-X59,0) -> 0 | Z59: =IF(X59>W59,X59-W59,0) -> 0 | AA59: =IF(Y59=1,1,ROUND(Y59*0.5,0)) -> 0 | AB59: 2 | AC59: 2 | AD59: =IF(AB59>AC59,AB59-AC59,0) -> 0 | AE59: =IF(AC59>AB59,AC59-AB59,0) -> 0 | AF59: =IF(AD59=1,1,ROUND(AD59*0.5,0)) -> 0 | AG59: 5 | AH59: 5 | AI59: =IF(AG59>AH59,AG59-AH59,0) -> 0 | AJ59: =IF(AH59>AG59,AH59-AG59,0) -> 0 | AK59: =IF(AI59=1,1,ROUND(AI59*0.5,0)) -> 0 | AL59: 2 | AM59: 1 | AN59: =IF(AL59>AM59,AL59-AM59,0) -> 1 | AO59: =IF(AM59>AL59,AM59-AL59,0) -> 0 | AP59: =IF(AN59=1,1,ROUND(AN59*0.5,0)) -> 1
A60: Veneto | B60: Padova | C60: 104 | D60: 78 | E60: =IF(C60>D60,C60-D60,0) -> 26 | F60: =IF(D60>C60,D60-C60,0) -> 0 | G60: =IF(E60=1,1,ROUND(E60*0.49,0)) -> 13 | H60: 670 | I60: 616 | J60: =IF(H60>I60,H60-I60,0) -> 54 | K60: =IF(I60>H60,I60-H60,0) -> 0 | L60: =IF(J60=1,1,ROUND(J60*0.49,0)) -> 26 | M60: 197 | N60: 189 | O60: =IF(M60>N60,M60-N60,0) -> 8 | P60: =IF(N60>M60,N60-M60,0) -> 0 | Q60: =IF(O60=1,1,ROUND(O60*0.49,0)) -> 4 | R60: 1787 | S60: 1642 | T60: =IF(R60>S60,R60-S60,0) -> 145 | U60: =IF(S60>R60,S60-R60,0) -> 0 | V60: =IF(T60=1,1,ROUND(T60*0.4905,0)) -> 71 | W60: 9 | X60: 6 | Y60: =IF(W60>X60,W60-X60,0) -> 3 | Z60: =IF(X60>W60,X60-W60,0) -> 0 | AA60: =IF(Y60=1,1,ROUND(Y60*0.5,0)) -> 2 | AB60: 8 | AC60: 4 | AD60: =IF(AB60>AC60,AB60-AC60,0) -> 4 | AE60: =IF(AC60>AB60,AC60-AB60,0) -> 0 | AF60: =IF(AD60=1,1,ROUND(AD60*0.5,0)) -> 2 | AG60: 9 | AH60: 8 | AI60: =IF(AG60>AH60,AG60-AH60,0) -> 1 | AJ60: =IF(AH60>AG60,AH60-AG60,0) -> 0 | AK60: =IF(AI60=1,1,ROUND(AI60*0.5,0)) -> 1 | AL60: 3 | AM60: 3 | AN60: =IF(AL60>AM60,AL60-AM60,0) -> 0 | AO60: =IF(AM60>AL60,AM60-AL60,0) -> 0 | AP60: =IF(AN60=1,1,ROUND(AN60*0.5,0)) -> 0
A61: Sicilia | B61: Palermo | C61: 198 | D61: 189 | E61: =IF(C61>D61,C61-D61,0) -> 9 | F61: =IF(D61>C61,D61-C61,0) -> 0 | G61: =IF(E61=1,1,ROUND(E61*0.49,0)) -> 4 | H61: 1033 | I61: 1032 | J61: =IF(H61>I61,H61-I61,0) -> 1 | K61: =IF(I61>H61,I61-H61,0) -> 0 | L61: =IF(J61=1,1,ROUND(J61*0.49,0)) -> 1 | M61: 477 | N61: 479 | O61: =IF(M61>N61,M61-N61,0) -> 0 | P61: =IF(N61>M61,N61-M61,0) -> 2 | Q61: =IF(O61=1,1,ROUND(O61*0.49,0)) -> 0 | R61: 2443 | S61: 2340 | T61: =IF(R61>S61,R61-S61,0) -> 103 | U61: =IF(S61>R61,S61-R61,0) -> 0 | V61: =IF(T61=1,1,ROUND(T61*0.4905,0)) -> 51 | W61: 8 | X61: 8 | Y61: =IF(W61>X61,W61-X61,0) -> 0 | Z61: =IF(X61>W61,X61-W61,0) -> 0 | AA61: =IF(Y61=1,1,ROUND(Y61*0.5,0)) -> 0 | AB61: 8 | AC61: 8 | AD61: =IF(AB61>AC61,AB61-AC61,0) -> 0 | AE61: =IF(AC61>AB61,AC61-AB61,0) -> 0 | AF61: =IF(AD61=1,1,ROUND(AD61*0.5,0)) -> 0 | AG61: 9 | AH61: 9 | AI61: =IF(AG61>AH61,AG61-AH61,0) -> 0 | AJ61: =IF(AH61>AG61,AH61-AG61,0) -> 0 | AK61: =IF(AI61=1,1,ROUND(AI61*0.5,0)) -> 0 | AL61: 2 | AM61: 2 | AN61: =IF(AL61>AM61,AL61-AM61,0) -> 0 | AO61: =IF(AM61>AL61,AM61-AL61,0) -> 0 | AP61: =IF(AN61=1,1,ROUND(AN61*0.5,0)) -> 0
A62: Emilia Romagna | B62: Parma | C62: 53 | D62: 23 | E62: =IF(C62>D62,C62-D62,0) -> 30 | F62: =IF(D62>C62,D62-C62,0) -> 0 | G62: =IF(E62=1,1,ROUND(E62*0.49,0)) -> 15 | H62: 315 | I62: 301 | J62: =IF(H62>I62,H62-I62,0) -> 14 | K62: =IF(I62>H62,I62-H62,0) -> 0 | L62: =IF(J62=1,1,ROUND(J62*0.49,0)) -> 7 | M62: 76 | N62: 73 | O62: =IF(M62>N62,M62-N62,0) -> 3 | P62: =IF(N62>M62,N62-M62,0) -> 0 | Q62: =IF(O62=1,1,ROUND(O62*0.49,0)) -> 1 | R62: 795 | S62: 739 | T62: =IF(R62>S62,R62-S62,0) -> 56 | U62: =IF(S62>R62,S62-R62,0) -> 0 | V62: =IF(T62=1,1,ROUND(T62*0.4905,0)) -> 27 | W62: 7 | X62: 2 | Y62: =IF(W62>X62,W62-X62,0) -> 5 | Z62: =IF(X62>W62,X62-W62,0) -> 0 | AA62: =IF(Y62=1,1,ROUND(Y62*0.5,0)) -> 3 | AB62: 2 | AC62: 1 | AD62: =IF(AB62>AC62,AB62-AC62,0) -> 1 | AE62: =IF(AC62>AB62,AC62-AB62,0) -> 0 | AF62: =IF(AD62=1,1,ROUND(AD62*0.5,0)) -> 1 | AG62: 4 | AH62: 2 | AI62: =IF(AG62>AH62,AG62-AH62,0) -> 2 | AJ62: =IF(AH62>AG62,AH62-AG62,0) -> 0 | AK62: =IF(AI62=1,1,ROUND(AI62*0.5,0)) -> 1 | AL62: 1 | AM62: 1 | AN62: =IF(AL62>AM62,AL62-AM62,0) -> 0 | AO62: =IF(AM62>AL62,AM62-AL62,0) -> 0 | AP62: =IF(AN62=1,1,ROUND(AN62*0.5,0)) -> 0
A63: Lombardia | B63: Pavia | C63: 53 | D63: 40 | E63: =IF(C63>D63,C63-D63,0) -> 13 | F63: =IF(D63>C63,D63-C63,0) -> 0 | G63: =IF(E63=1,1,ROUND(E63*0.49,0)) -> 6 | H63: 379 | I63: 330 | J63: =IF(H63>I63,H63-I63,0) -> 49 | K63: =IF(I63>H63,I63-H63,0) -> 0 | L63: =IF(J63=1,1,ROUND(J63*0.49,0)) -> 24 | M63: 93 | N63: 79 | O63: =IF(M63>N63,M63-N63,0) -> 14 | P63: =IF(N63>M63,N63-M63,0) -> 0 | Q63: =IF(O63=1,1,ROUND(O63*0.49,0)) -> 7 | R63: 966 | S63: 903 | T63: =IF(R63>S63,R63-S63,0) -> 63 | U63: =IF(S63>R63,S63-R63,0) -> 0 | V63: =IF(T63=1,1,ROUND(T63*0.4905,0)) -> 31 | W63: 3 | X63: 3 | Y63: =IF(W63>X63,W63-X63,0) -> 0 | Z63: =IF(X63>W63,X63-W63,0) -> 0 | AA63: =IF(Y63=1,1,ROUND(Y63*0.5,0)) -> 0 | AB63: 2 | AC63: 2 | AD63: =IF(AB63>AC63,AB63-AC63,0) -> 0 | AE63: =IF(AC63>AB63,AC63-AB63,0) -> 0 | AF63: =IF(AD63=1,1,ROUND(AD63*0.5,0)) -> 0 | AG63: 2 | AH63: 2 | AI63: =IF(AG63>AH63,AG63-AH63,0) -> 0 | AJ63: =IF(AH63>AG63,AH63-AG63,0) -> 0 | AK63: =IF(AI63=1,1,ROUND(AI63*0.5,0)) -> 0 | AL63: 1 | AM63: 0 | AN63: =IF(AL63>AM63,AL63-AM63,0) -> 1 | AO63: =IF(AM63>AL63,AM63-AL63,0) -> 0 | AP63: =IF(AN63=1,1,ROUND(AN63*0.5,0)) -> 1
A64: Umbria | B64: Perugia | C64: 102 | D64: 76 | E64: =IF(C64>D64,C64-D64,0) -> 26 | F64: =IF(D64>C64,D64-C64,0) -> 0 | G64: =IF(E64=1,1,ROUND(E64*0.49,0)) -> 13 | H64: 549 | I64: 518 | J64: =IF(H64>I64,H64-I64,0) -> 31 | K64: =IF(I64>H64,I64-H64,0) -> 0 | L64: =IF(J64=1,1,ROUND(J64*0.49,0)) -> 15 | M64: 230 | N64: 220 | O64: =IF(M64>N64,M64-N64,0) -> 10 | P64: =IF(N64>M64,N64-M64,0) -> 0 | Q64: =IF(O64=1,1,ROUND(O64*0.49,0)) -> 5 | R64: 1562 | S64: 1491 | T64: =IF(R64>S64,R64-S64,0) -> 71 | U64: =IF(S64>R64,S64-R64,0) -> 0 | V64: =IF(T64=1,1,ROUND(T64*0.4905,0)) -> 35 | W64: 11 | X64: 5 | Y64: =IF(W64>X64,W64-X64,0) -> 6 | Z64: =IF(X64>W64,X64-W64,0) -> 0 | AA64: =IF(Y64=1,1,ROUND(Y64*0.5,0)) -> 3 | AB64: 2 | AC64: 1 | AD64: =IF(AB64>AC64,AB64-AC64,0) -> 1 | AE64: =IF(AC64>AB64,AC64-AB64,0) -> 0 | AF64: =IF(AD64=1,1,ROUND(AD64*0.5,0)) -> 1 | AG64: 10 | AH64: 6 | AI64: =IF(AG64>AH64,AG64-AH64,0) -> 4 | AJ64: =IF(AH64>AG64,AH64-AG64,0) -> 0 | AK64: =IF(AI64=1,1,ROUND(AI64*0.5,0)) -> 2 | AL64: 3 | AM64: 3 | AN64: =IF(AL64>AM64,AL64-AM64,0) -> 0 | AO64: =IF(AM64>AL64,AM64-AL64,0) -> 0 | AP64: =IF(AN64=1,1,ROUND(AN64*0.5,0)) -> 0
A65: Marche | B65: Pesaro | C65: 53 | D65: 39 | E65: =IF(C65>D65,C65-D65,0) -> 14 | F65: =IF(D65>C65,D65-C65,0) -> 0 | G65: =IF(E65=1,1,ROUND(E65*0.49,0)) -> 7 | H65: 313 | I65: 290 | J65: =IF(H65>I65,H65-I65,0) -> 23 | K65: =IF(I65>H65,I65-H65,0) -> 0 | L65: =IF(J65=1,1,ROUND(J65*0.49,0)) -> 11 | M65: 92 | N65: 86 | O65: =IF(M65>N65,M65-N65,0) -> 6 | P65: =IF(N65>M65,N65-M65,0) -> 0 | Q65: =IF(O65=1,1,ROUND(O65*0.49,0)) -> 3 | R65: 843 | S65: 795 | T65: =IF(R65>S65,R65-S65,0) -> 48 | U65: =IF(S65>R65,S65-R65,0) -> 0 | V65: =IF(T65=1,1,ROUND(T65*0.4905,0)) -> 24 | W65: 4 | X65: 3 | Y65: =IF(W65>X65,W65-X65,0) -> 1 | Z65: =IF(X65>W65,X65-W65,0) -> 0 | AA65: =IF(Y65=1,1,ROUND(Y65*0.5,0)) -> 1 | AB65: 2 | AC65: 1 | AD65: =IF(AB65>AC65,AB65-AC65,0) -> 1 | AE65: =IF(AC65>AB65,AC65-AB65,0) -> 0 | AF65: =IF(AD65=1,1,ROUND(AD65*0.5,0)) -> 1 | AG65: 2 | AH65: 2 | AI65: =IF(AG65>AH65,AG65-AH65,0) -> 0 | AJ65: =IF(AH65>AG65,AH65-AG65,0) -> 0 | AK65: =IF(AI65=1,1,ROUND(AI65*0.5,0)) -> 0 | AL65: 1 | AM65: 1 | AN65: =IF(AL65>AM65,AL65-AM65,0) -> 0 | AO65: =IF(AM65>AL65,AM65-AL65,0) -> 0 | AP65: =IF(AN65=1,1,ROUND(AN65*0.5,0)) -> 0
A66: Abruzzo | B66: Pescara | C66: 46 | D66: 44 | E66: =IF(C66>D66,C66-D66,0) -> 2 | F66: =IF(D66>C66,D66-C66,0) -> 0 | G66: =IF(E66=1,1,ROUND(E66*0.49,0)) -> 1 | H66: 271 | I66: 253 | J66: =IF(H66>I66,H66-I66,0) -> 18 | K66: =IF(I66>H66,I66-H66,0) -> 0 | L66: =IF(J66=1,1,ROUND(J66*0.49,0)) -> 9 | M66: 73 | N66: 71 | O66: =IF(M66>N66,M66-N66,0) -> 2 | P66: =IF(N66>M66,N66-M66,0) -> 0 | Q66: =IF(O66=1,1,ROUND(O66*0.49,0)) -> 1 | R66: 728 | S66: 685 | T66: =IF(R66>S66,R66-S66,0) -> 43 | U66: =IF(S66>R66,S66-R66,0) -> 0 | V66: =IF(T66=1,1,ROUND(T66*0.4905,0)) -> 21 | W66: 6 | X66: 5 | Y66: =IF(W66>X66,W66-X66,0) -> 1 | Z66: =IF(X66>W66,X66-W66,0) -> 0 | AA66: =IF(Y66=1,1,ROUND(Y66*0.5,0)) -> 1 | AB66: 2 | AC66: 2 | AD66: =IF(AB66>AC66,AB66-AC66,0) -> 0 | AE66: =IF(AC66>AB66,AC66-AB66,0) -> 0 | AF66: =IF(AD66=1,1,ROUND(AD66*0.5,0)) -> 0 | AG66: 5 | AH66: 6 | AI66: =IF(AG66>AH66,AG66-AH66,0) -> 0 | AJ66: =IF(AH66>AG66,AH66-AG66,0) -> 1 | AK66: =IF(AI66=1,1,ROUND(AI66*0.5,0)) -> 0 | AL66: 2 | AM66: 2 | AN66: =IF(AL66>AM66,AL66-AM66,0) -> 0 | AO66: =IF(AM66>AL66,AM66-AL66,0) -> 0 | AP66: =IF(AN66=1,1,ROUND(AN66*0.5,0)) -> 0
... A102: Lazio | B102: Viterbo | C102: 43 | D102: 39 | E102: =IF(C102>D102,C102-D102,0) -> 4 | F102: =IF(D102>C102,D102-C102,0) -> 0 | G102: =IF(E102=1,1,ROUND(E102*0.49,0)) -> 2 | H102: 237 | I102: 216 | J102: =IF(H102>I102,H102-I102,0) -> 21 | K102: =IF(I102>H102,I102-H102,0) -> 0 | L102: =IF(J102=1,1,ROUND(J102*0.49,0)) -> 10 | M102: 65 | N102: 60 | O102: =IF(M102>N102,M102-N102,0) -> 5 | P102: =IF(N102>M102,N102-M102,0) -> 0 | Q102: =IF(O102=1,1,ROUND(O102*0.49,0)) -> 2 | R102: 682 | S102: 639 | T102: =IF(R102>S102,R102-S102,0) -> 43 | U102: =IF(S102>R102,S102-R102,0) -> 0 | V102: =IF(T102=1,1,ROUND(T102*0.4905,0)) -> 21 | W102: 0 | X102: 0 | Y102: =IF(W102>X102,W102-X102,0) -> 0 | Z102: =IF(X102>W102,X102-W102,0) -> 0 | AA102: =IF(Y102=1,1,ROUND(Y102*0.5,0)) -> 0 | AB102: 1 | AC102: 1 | AD102: =IF(AB102>AC102,AB102-AC102,0) -> 0 | AE102: =IF(AC102>AB102,AC102-AB102,0) -> 0 | AF102: =IF(AD102=1,1,ROUND(AD102*0.5,0)) -> 0 | AG102: 0 | AH102: 0 | AI102: =IF(AG102>AH102,AG102-AH102,0) -> 0 | AJ102: =IF(AH102>AG102,AH102-AG102,0) -> 0 | AK102: =IF(AI102=1,1,ROUND(AI102*0.5,0)) -> 0 | AL102: 0 | AM102: 0 | AN102: =IF(AL102>AM102,AL102-AM102,0) -> 0 | AO102: =IF(AM102>AL102,AM102-AL102,0) -> 0 | AP102: =IF(AN102=1,1,ROUND(AN102*0.5,0)) -> 0
A103: Nazionale | C103: =SUM(C3:C102) -> 7995 | D103: =SUM(D3:D102) -> 6519 | E103: =SUM(E3:E102) -> 1554 | F103: =SUM(F3:F102) -> 78 | G103: =SUM(G3:G102) -> 761 | H103: =SUM(H3:H102) -> 46486 | I103: =SUM(I3:I102) -> 43965 | J103: =SUM(J3:J102) -> 2524 | ... AP103: =SUM(AP3:AP102) -> 22
